BEGIN:VCALENDAR
VERSION:2.0
PRODID:-//CVA Verviers - ECPv6.0.3//NONSGML v1.0//EN
CALSCALE:GREGORIAN
METHOD:PUBLISH
X-WR-CALNAME:CVA Verviers
X-ORIGINAL-URL:https://cva-verviers.be
X-WR-CALDESC:Events for CVA Verviers
REFRESH-INTERVAL;VALUE=DURATION:PT1H
X-Robots-Tag:noindex
X-PUBLISHED-TTL:PT1H
BEGIN:VTIMEZONE
TZID:Europe/Brussels
BEGIN:DAYLIGHT
TZOFFSETFROM:+0100
TZOFFSETTO:+0200
TZNAME:CEST
DTSTART:20220327T010000
END:DAYLIGHT
BEGIN:STANDARD
TZOFFSETFROM:+0200
TZOFFSETTO:+0100
TZNAME:CET
DTSTART:20221030T010000
END:STANDARD
END:VTIMEZONE
BEGIN:VEVENT
DTSTART;TZID=Europe/Brussels:20221006T140000
DTEND;TZID=Europe/Brussels:20221006T160000
DTSTAMP:20260422T214719
CREATED:20221004T121547Z
LAST-MODIFIED:20221013T092624Z
UID:29557-1665064800-1665072000@cva-verviers.be
SUMMARY:L'attente et l'inattendu
DESCRIPTION:Jacqueline KELEN \nEcrivain
URL:https://cva-verviers.be/event/lattente-et-linattendu/
LOCATION:Cinéma Pathé – Salle 6\, Bld des Gérardchamps\, 7A\, Verviers\, 4800\, Belgium
CATEGORIES:Conférence
END:VEVENT
END:VCALENDAR