BEGIN:VCALENDAR
VERSION:2.0
PRODID:-//CVA Verviers - ECPv6.0.3//NONSGML v1.0//EN
CALSCALE:GREGORIAN
METHOD:PUBLISH
X-ORIGINAL-URL:https://cva-verviers.be
X-WR-CALDESC:Events for CVA Verviers
REFRESH-INTERVAL;VALUE=DURATION:PT1H
X-Robots-Tag:noindex
X-PUBLISHED-TTL:PT1H
BEGIN:VTIMEZONE
TZID:Europe/Brussels
BEGIN:DAYLIGHT
TZOFFSETFROM:+0100
TZOFFSETTO:+0200
TZNAME:CEST
DTSTART:20230326T010000
END:DAYLIGHT
BEGIN:STANDARD
TZOFFSETFROM:+0200
TZOFFSETTO:+0100
TZNAME:CET
DTSTART:20231029T010000
END:STANDARD
END:VTIMEZONE
BEGIN:VEVENT
DTSTART;VALUE=DATE:20230928
DTEND;VALUE=DATE:20230930
DTSTAMP:20260422T000641
CREATED:20230801T124517Z
LAST-MODIFIED:20230801T124517Z
UID:29801-1695859200-1696031999@cva-verviers.be
SUMMARY:Découverte du patrimoine d'Ypres et de Courtrai
DESCRIPTION:Les détails du voyage suivront.
URL:https://cva-verviers.be/event/decouverte-du-patrimoine-dypres-et-de-courtrai/
CATEGORIES:Voyages
END:VEVENT
END:VCALENDAR