BEGIN:VCALENDAR
VERSION:2.0
PRODID:-//CVA Verviers - ECPv6.0.3//NONSGML v1.0//EN
CALSCALE:GREGORIAN
METHOD:PUBLISH
X-ORIGINAL-URL:https://cva-verviers.be
X-WR-CALDESC:Events for CVA Verviers
REFRESH-INTERVAL;VALUE=DURATION:PT1H
X-Robots-Tag:noindex
X-PUBLISHED-TTL:PT1H
BEGIN:VTIMEZONE
TZID:Europe/Brussels
BEGIN:DAYLIGHT
TZOFFSETFROM:+0100
TZOFFSETTO:+0200
TZNAME:CEST
DTSTART:20230326T010000
END:DAYLIGHT
BEGIN:STANDARD
TZOFFSETFROM:+0200
TZOFFSETTO:+0100
TZNAME:CET
DTSTART:20231029T010000
END:STANDARD
END:VTIMEZONE
BEGIN:VEVENT
DTSTART;TZID=Europe/Brussels:20231019T140000
DTEND;TZID=Europe/Brussels:20231019T160000
DTSTAMP:20260422T000635
CREATED:20230801T122206Z
LAST-MODIFIED:20230801T122206Z
UID:29756-1697724000-1697731200@cva-verviers.be
SUMMARY:De la rue au musée ou de la jungle au zoo ? Les défis posés par le succès du street art
DESCRIPTION:Eric VAN ESSCHE\, professeur à la Faculté d’architecture et à la Faculté de philosophie et sciences sociales de l’ULB\, ainsi qu’à l’ENSAV\, co-directeur du GRESAC et directeur de l’ouvrage (R)évolutions du Street Art\, Bruxelles\, CFC-Editions\, 2021.
URL:https://cva-verviers.be/event/de-la-rue-au-musee-ou-de-la-jungle-au-zoo-les-defis-poses-par-le-succes-du-street-art/
LOCATION:Cinéma Pathé Verviers\, Boulevard des Gérardchamps\, 7a\, VERVIERS\, 4800
CATEGORIES:Conférence
END:VEVENT
END:VCALENDAR