BEGIN:VCALENDAR
VERSION:2.0
PRODID:-//CVA Verviers - ECPv6.0.3//NONSGML v1.0//EN
CALSCALE:GREGORIAN
METHOD:PUBLISH
X-WR-CALNAME:CVA Verviers
X-ORIGINAL-URL:https://cva-verviers.be
X-WR-CALDESC:Events for CVA Verviers
REFRESH-INTERVAL;VALUE=DURATION:PT1H
X-Robots-Tag:noindex
X-PUBLISHED-TTL:PT1H
BEGIN:VTIMEZONE
TZID:Europe/Brussels
BEGIN:DAYLIGHT
TZOFFSETFROM:+0100
TZOFFSETTO:+0200
TZNAME:CEST
DTSTART:20230326T010000
END:DAYLIGHT
BEGIN:STANDARD
TZOFFSETFROM:+0200
TZOFFSETTO:+0100
TZNAME:CET
DTSTART:20231029T010000
END:STANDARD
END:VTIMEZONE
BEGIN:VEVENT
DTSTART;TZID=Europe/Brussels:20231130T140000
DTEND;TZID=Europe/Brussels:20231130T160000
DTSTAMP:20260421T202826
CREATED:20230801T122734Z
LAST-MODIFIED:20230801T122734Z
UID:29767-1701352800-1701360000@cva-verviers.be
SUMMARY:La Géorgie entre Orient et Occident
DESCRIPTION:Bernard COULIE\, professeur à l’UCLouvain\, Recteur honoraire
URL:https://cva-verviers.be/event/la-georgie-entre-orient-et-occident/
LOCATION:Cinéma Pathé Verviers\, Boulevard des Gérardchamps\, 7a\, VERVIERS\, 4800
CATEGORIES:Conférence
END:VEVENT
END:VCALENDAR