BEGIN:VCALENDAR
VERSION:2.0
PRODID:-//CVA Verviers - ECPv6.0.3//NONSGML v1.0//EN
CALSCALE:GREGORIAN
METHOD:PUBLISH
X-ORIGINAL-URL:https://cva-verviers.be
X-WR-CALDESC:Events for CVA Verviers
REFRESH-INTERVAL;VALUE=DURATION:PT1H
X-Robots-Tag:noindex
X-PUBLISHED-TTL:PT1H
BEGIN:VTIMEZONE
TZID:Europe/Brussels
BEGIN:DAYLIGHT
TZOFFSETFROM:+0100
TZOFFSETTO:+0200
TZNAME:CEST
DTSTART:20250330T010000
END:DAYLIGHT
BEGIN:STANDARD
TZOFFSETFROM:+0200
TZOFFSETTO:+0100
TZNAME:CET
DTSTART:20251026T010000
END:STANDARD
END:VTIMEZONE
BEGIN:VEVENT
DTSTART;TZID=Europe/Brussels:20250206T140000
DTEND;TZID=Europe/Brussels:20250206T160000
DTSTAMP:20260420T161259
CREATED:20240910T123850Z
LAST-MODIFIED:20240910T174856Z
UID:29954-1738850400-1738857600@cva-verviers.be
SUMMARY:De Charleroi à Kinshasa\, en quête de l'autre
DESCRIPTION:Thierry MICHEL \nJournaliste\, cinéaste \n 
URL:https://cva-verviers.be/event/de-charleroi-a-kinshasa-en-quete-de-lautre/
CATEGORIES:Conférence
END:VEVENT
END:VCALENDAR