BEGIN:VCALENDAR
VERSION:2.0
PRODID:-//CVA Verviers - ECPv6.0.3//NONSGML v1.0//EN
CALSCALE:GREGORIAN
METHOD:PUBLISH
X-ORIGINAL-URL:https://cva-verviers.be
X-WR-CALDESC:Events for CVA Verviers
REFRESH-INTERVAL;VALUE=DURATION:PT1H
X-Robots-Tag:noindex
X-PUBLISHED-TTL:PT1H
BEGIN:VTIMEZONE
TZID:Europe/Brussels
BEGIN:DAYLIGHT
TZOFFSETFROM:+0100
TZOFFSETTO:+0200
TZNAME:CEST
DTSTART:20250330T010000
END:DAYLIGHT
BEGIN:STANDARD
TZOFFSETFROM:+0200
TZOFFSETTO:+0100
TZNAME:CET
DTSTART:20251026T010000
END:STANDARD
END:VTIMEZONE
BEGIN:VEVENT
DTSTART;TZID=Europe/Brussels:20250220T140000
DTEND;TZID=Europe/Brussels:20250220T160000
DTSTAMP:20260420T161258
CREATED:20240910T124318Z
LAST-MODIFIED:20240910T174839Z
UID:29956-1740060000-1740067200@cva-verviers.be
SUMMARY:Intelligence Artificielle : entre promesses de productivité et apocalypse de l'emploi
DESCRIPTION:Nicolas van ZEEBROECK \nProfesseur d’économie et stratégie numérique (Solvay / ULB)
URL:https://cva-verviers.be/event/intelligence-artificielle-entre-promesses-de-productivite-et-apocalypse-de-lemploi/
CATEGORIES:Conférence
END:VEVENT
END:VCALENDAR