BEGIN:VCALENDAR
VERSION:2.0
PRODID:-//CVA Verviers - ECPv6.0.3//NONSGML v1.0//EN
CALSCALE:GREGORIAN
METHOD:PUBLISH
X-ORIGINAL-URL:https://cva-verviers.be
X-WR-CALDESC:Events for CVA Verviers
REFRESH-INTERVAL;VALUE=DURATION:PT1H
X-Robots-Tag:noindex
X-PUBLISHED-TTL:PT1H
BEGIN:VTIMEZONE
TZID:Europe/Brussels
BEGIN:DAYLIGHT
TZOFFSETFROM:+0100
TZOFFSETTO:+0200
TZNAME:CEST
DTSTART:20230326T010000
END:DAYLIGHT
BEGIN:STANDARD
TZOFFSETFROM:+0200
TZOFFSETTO:+0100
TZNAME:CET
DTSTART:20231029T010000
END:STANDARD
END:VTIMEZONE
BEGIN:VEVENT
DTSTART;TZID=Europe/Brussels:20230209T140000
DTEND;TZID=Europe/Brussels:20230209T160000
DTSTAMP:20260422T102920
CREATED:20221004T121544Z
LAST-MODIFIED:20221013T093018Z
UID:29550-1675951200-1675958400@cva-verviers.be
SUMMARY:"Des arbres qui marchent"
DESCRIPTION:Pierre – Paul RENDERS \nRéalisateur\, scénariste et enseignant à l’ IAD\nauteur de la web-série  » Des arbres qui marchent »\nwww.desarbresquimarchent.com
URL:https://cva-verviers.be/event/des-arbres-qui-marchent/
LOCATION:Cinéma Pathé – Salle 6\, Bld des Gérardchamps\, 7A\, Verviers\, 4800\, Belgium
CATEGORIES:Conférence
END:VEVENT
END:VCALENDAR