BEGIN:VCALENDAR
VERSION:2.0
PRODID:-//CVA Verviers - ECPv6.0.3//NONSGML v1.0//EN
CALSCALE:GREGORIAN
METHOD:PUBLISH
X-WR-CALNAME:CVA Verviers
X-ORIGINAL-URL:https://cva-verviers.be
X-WR-CALDESC:Events for CVA Verviers
REFRESH-INTERVAL;VALUE=DURATION:PT1H
X-Robots-Tag:noindex
X-PUBLISHED-TTL:PT1H
BEGIN:VTIMEZONE
TZID:Europe/Brussels
BEGIN:DAYLIGHT
TZOFFSETFROM:+0100
TZOFFSETTO:+0200
TZNAME:CEST
DTSTART:20250330T010000
END:DAYLIGHT
BEGIN:STANDARD
TZOFFSETFROM:+0200
TZOFFSETTO:+0100
TZNAME:CET
DTSTART:20251026T010000
END:STANDARD
END:VTIMEZONE
BEGIN:VEVENT
DTSTART;TZID=Europe/Brussels:20250109T140000
DTEND;TZID=Europe/Brussels:20250109T160000
DTSTAMP:20260420T143302
CREATED:20240910T123452Z
LAST-MODIFIED:20240910T174913Z
UID:29949-1736431200-1736438400@cva-verviers.be
SUMMARY:Dernières avancées dans la recherche contre le cancer grâce à la thérapie ciblée
DESCRIPTION:Sarah BAATOUT \nDocteur au biochimie\, UCLouvain \n 
URL:https://cva-verviers.be/event/dernieres-avancees-dans-la-recherche-contre-le-cancer-grace-a-la-therapie-ciblee/
CATEGORIES:Conférence
END:VEVENT
BEGIN:VEVENT
DTSTART;TZID=Europe/Brussels:20250123T140000
DTEND;TZID=Europe/Brussels:20250123T160000
DTSTAMP:20260420T143302
CREATED:20240910T123634Z
LAST-MODIFIED:20240910T174905Z
UID:29951-1737640800-1737648000@cva-verviers.be
SUMMARY:La chimie se met au vert
DESCRIPTION:Aurore RICHEL \nDocteur en sciences chimiques\, ULG
URL:https://cva-verviers.be/event/la-chimie-se-met-au-vert/
CATEGORIES:Conférence
END:VEVENT
END:VCALENDAR