BEGIN:VCALENDAR
VERSION:2.0
PRODID:-//CVA Verviers - ECPv6.0.3//NONSGML v1.0//EN
CALSCALE:GREGORIAN
METHOD:PUBLISH
X-WR-CALNAME:CVA Verviers
X-ORIGINAL-URL:https://cva-verviers.be
X-WR-CALDESC:Events for CVA Verviers
REFRESH-INTERVAL;VALUE=DURATION:PT1H
X-Robots-Tag:noindex
X-PUBLISHED-TTL:PT1H
BEGIN:VTIMEZONE
TZID:Europe/Brussels
BEGIN:DAYLIGHT
TZOFFSETFROM:+0100
TZOFFSETTO:+0200
TZNAME:CEST
DTSTART:20250330T010000
END:DAYLIGHT
BEGIN:STANDARD
TZOFFSETFROM:+0200
TZOFFSETTO:+0100
TZNAME:CET
DTSTART:20251026T010000
END:STANDARD
END:VTIMEZONE
BEGIN:VEVENT
DTSTART;TZID=Europe/Brussels:20250313T140000
DTEND;TZID=Europe/Brussels:20250313T160000
DTSTAMP:20260420T111515
CREATED:20240910T124731Z
LAST-MODIFIED:20240910T174711Z
UID:29958-1741874400-1741881600@cva-verviers.be
SUMMARY:Le conflit Israélo-Palestinien : impasses explosives et démissions internationales
DESCRIPTION:Hélana AOUN \nProfesseure à l’UCLouvain et Docteure de l’institut politique de Paris
URL:https://cva-verviers.be/event/le-conflit-israelo-palestinien-impasses-explosives-et-demissions-internationales/
CATEGORIES:Conférence
END:VEVENT
BEGIN:VEVENT
DTSTART;TZID=Europe/Brussels:20250327T140000
DTEND;TZID=Europe/Brussels:20250327T160000
DTSTAMP:20260420T111515
CREATED:20240910T125100Z
LAST-MODIFIED:20240911T204801Z
UID:29961-1743084000-1743091200@cva-verviers.be
SUMMARY:L'Astronomie au féminin
DESCRIPTION:Yaël NAZE \nAstrophysicienne FNRS\, professeure à l’ULG\, spécialiste des étoiles massives \n                                 Conférence suivie du verre de l’amitié \n 
URL:https://cva-verviers.be/event/lastronomie-au-feminin/
CATEGORIES:Conférence
END:VEVENT
END:VCALENDAR