BEGIN:VCALENDAR
VERSION:2.0
PRODID:-//CVA Verviers - ECPv6.0.3//NONSGML v1.0//EN
CALSCALE:GREGORIAN
METHOD:PUBLISH
X-WR-CALNAME:CVA Verviers
X-ORIGINAL-URL:https://cva-verviers.be
X-WR-CALDESC:Events for CVA Verviers
REFRESH-INTERVAL;VALUE=DURATION:PT1H
X-Robots-Tag:noindex
X-PUBLISHED-TTL:PT1H
BEGIN:VTIMEZONE
TZID:Europe/Brussels
BEGIN:DAYLIGHT
TZOFFSETFROM:+0100
TZOFFSETTO:+0200
TZNAME:CEST
DTSTART:20250330T010000
END:DAYLIGHT
BEGIN:STANDARD
TZOFFSETFROM:+0200
TZOFFSETTO:+0100
TZNAME:CET
DTSTART:20251026T010000
END:STANDARD
END:VTIMEZONE
BEGIN:VEVENT
DTSTART;TZID=Europe/Brussels:20251002T140000
DTEND;TZID=Europe/Brussels:20251002T170000
DTSTAMP:20260419T223556
CREATED:20251023T073550Z
LAST-MODIFIED:20251024T155256Z
UID:30035-1759413600-1759424400@cva-verviers.be
SUMMARY:Jean-Marc ONKELINX
DESCRIPTION:La Musique au féminin
URL:https://cva-verviers.be/event/jean-marc-onkelinx/
CATEGORIES:Conférence
END:VEVENT
BEGIN:VEVENT
DTSTART;TZID=Europe/Brussels:20251016T140000
DTEND;TZID=Europe/Brussels:20251016T170000
DTSTAMP:20260419T223556
CREATED:20251024T112238Z
LAST-MODIFIED:20251024T155239Z
UID:30040-1760623200-1760634000@cva-verviers.be
SUMMARY:Emmanuelle Pouydebat
DESCRIPTION:Intelligence animale : épatante !
URL:https://cva-verviers.be/event/emmanuelle-pouydebat/
LOCATION:Cinéma Pathé – Salle 6\, Bld des Gérardchamps\, 7A\, Verviers\, 4800\, Belgium
CATEGORIES:Conférence
END:VEVENT
BEGIN:VEVENT
DTSTART;TZID=Europe/Brussels:20251020T080000
DTEND;TZID=Europe/Brussels:20251020T170000
DTSTAMP:20260419T223556
CREATED:20251020T160116Z
LAST-MODIFIED:20251024T155231Z
UID:30019-1760947200-1760979600@cva-verviers.be
SUMMARY:La musique au féminin
DESCRIPTION:
URL:https://cva-verviers.be/event/la-musique-au-feminin/
CATEGORIES:Conférence
END:VEVENT
END:VCALENDAR