BEGIN:VCALENDAR
VERSION:2.0
PRODID:-//CVA Verviers - ECPv6.0.3//NONSGML v1.0//EN
CALSCALE:GREGORIAN
METHOD:PUBLISH
X-ORIGINAL-URL:https://cva-verviers.be
X-WR-CALDESC:Events for CVA Verviers
REFRESH-INTERVAL;VALUE=DURATION:PT1H
X-Robots-Tag:noindex
X-PUBLISHED-TTL:PT1H
BEGIN:VTIMEZONE
TZID:Europe/Brussels
BEGIN:DAYLIGHT
TZOFFSETFROM:+0100
TZOFFSETTO:+0200
TZNAME:CEST
DTSTART:20230326T010000
END:DAYLIGHT
BEGIN:STANDARD
TZOFFSETFROM:+0200
TZOFFSETTO:+0100
TZNAME:CET
DTSTART:20231029T010000
END:STANDARD
END:VTIMEZONE
BEGIN:VEVENT
DTSTART;TZID=Europe/Brussels:20231123T140000
DTEND;TZID=Europe/Brussels:20231123T160000
DTSTAMP:20260421T201726
CREATED:20230801T122612Z
LAST-MODIFIED:20230801T122612Z
UID:29764-1700748000-1700755200@cva-verviers.be
SUMMARY:Dernières avancées de la recherche contre le cancer grâce à la radiothérapie ciblée
DESCRIPTION:Sarah BAATOUT\, Docteur en biochimie UCL\, chef de l’unité radiologique du centre nucléaire de Mol\, membre de l’Agence spatiale européenne.
URL:https://cva-verviers.be/event/dernieres-avancees-de-la-recherche-contre-le-cancer-grace-a-la-radiotherapie-ciblee/
LOCATION:Cinéma Pathé Verviers\, Boulevard des Gérardchamps\, 7a\, VERVIERS\, 4800
CATEGORIES:Conférence
END:VEVENT
END:VCALENDAR