BEGIN:VCALENDAR
VERSION:2.0
PRODID:-//CVA Verviers - ECPv6.0.3//NONSGML v1.0//EN
CALSCALE:GREGORIAN
METHOD:PUBLISH
X-WR-CALNAME:CVA Verviers
X-ORIGINAL-URL:https://cva-verviers.be
X-WR-CALDESC:Events for CVA Verviers
REFRESH-INTERVAL;VALUE=DURATION:PT1H
X-Robots-Tag:noindex
X-PUBLISHED-TTL:PT1H
BEGIN:VTIMEZONE
TZID:Europe/Brussels
BEGIN:DAYLIGHT
TZOFFSETFROM:+0100
TZOFFSETTO:+0200
TZNAME:CEST
DTSTART:20240331T010000
END:DAYLIGHT
BEGIN:STANDARD
TZOFFSETFROM:+0200
TZOFFSETTO:+0100
TZNAME:CET
DTSTART:20241027T010000
END:STANDARD
END:VTIMEZONE
BEGIN:VEVENT
DTSTART;TZID=Europe/Brussels:20241107T140000
DTEND;TZID=Europe/Brussels:20241107T160000
DTSTAMP:20260420T194150
CREATED:20240910T122018Z
LAST-MODIFIED:20240910T175007Z
UID:29936-1730988000-1730995200@cva-verviers.be
SUMMARY:Acides gras alimentaires et santé : et si on mangeait "mieux gras" ?
DESCRIPTION:Yvan LARONDELLE \nProfesseur de biochimie et nutrition à la Faculté des Bioingénieurs de l’UCLouvain
URL:https://cva-verviers.be/event/acides-gras-alimentaires-et-sante-et-si-on-mangeait/
CATEGORIES:Conférence
END:VEVENT
END:VCALENDAR