BEGIN:VCALENDAR
VERSION:2.0
PRODID:-//CVA Verviers - ECPv6.0.3//NONSGML v1.0//EN
CALSCALE:GREGORIAN
METHOD:PUBLISH
X-ORIGINAL-URL:https://cva-verviers.be
X-WR-CALDESC:Events for CVA Verviers
REFRESH-INTERVAL;VALUE=DURATION:PT1H
X-Robots-Tag:noindex
X-PUBLISHED-TTL:PT1H
BEGIN:VTIMEZONE
TZID:Europe/Brussels
BEGIN:DAYLIGHT
TZOFFSETFROM:+0100
TZOFFSETTO:+0200
TZNAME:CEST
DTSTART:20240331T010000
END:DAYLIGHT
BEGIN:STANDARD
TZOFFSETFROM:+0200
TZOFFSETTO:+0100
TZNAME:CET
DTSTART:20241027T010000
END:STANDARD
END:VTIMEZONE
BEGIN:VEVENT
DTSTART;TZID=Europe/Brussels:20241121T140000
DTEND;TZID=Europe/Brussels:20241121T160000
DTSTAMP:20260420T194308
CREATED:20240910T122535Z
LAST-MODIFIED:20240910T174938Z
UID:29940-1732197600-1732204800@cva-verviers.be
SUMMARY:Folon
DESCRIPTION:Gaêtan SAINT-REMY \nScénariste\, réalisateur
URL:https://cva-verviers.be/event/folon/
CATEGORIES:Conférence
END:VEVENT
END:VCALENDAR