BEGIN:VCALENDAR
VERSION:2.0
PRODID:-//CVA Verviers - ECPv6.0.3//NONSGML v1.0//EN
CALSCALE:GREGORIAN
METHOD:PUBLISH
X-ORIGINAL-URL:https://cva-verviers.be
X-WR-CALDESC:Events for CVA Verviers
REFRESH-INTERVAL;VALUE=DURATION:PT1H
X-Robots-Tag:noindex
X-PUBLISHED-TTL:PT1H
BEGIN:VTIMEZONE
TZID:Europe/Brussels
BEGIN:DAYLIGHT
TZOFFSETFROM:+0100
TZOFFSETTO:+0200
TZNAME:CEST
DTSTART:20250330T010000
END:DAYLIGHT
BEGIN:STANDARD
TZOFFSETFROM:+0200
TZOFFSETTO:+0100
TZNAME:CET
DTSTART:20251026T010000
END:STANDARD
END:VTIMEZONE
BEGIN:VEVENT
DTSTART;TZID=Europe/Brussels:20251204T080000
DTEND;TZID=Europe/Brussels:20251204T170000
DTSTAMP:20260419T210903
CREATED:20251024T113149Z
LAST-MODIFIED:20251024T155157Z
UID:30048-1764835200-1764867600@cva-verviers.be
SUMMARY:Ronald Goffart
DESCRIPTION:A l’est du pays .
URL:https://cva-verviers.be/event/ronald-goffart/
CATEGORIES:Conférence
END:VEVENT
END:VCALENDAR