BEGIN:VCALENDAR
VERSION:2.0
PRODID:-//CVA Verviers - ECPv6.0.3//NONSGML v1.0//EN
CALSCALE:GREGORIAN
METHOD:PUBLISH
X-WR-CALNAME:CVA Verviers
X-ORIGINAL-URL:https://cva-verviers.be
X-WR-CALDESC:Events for CVA Verviers
REFRESH-INTERVAL;VALUE=DURATION:PT1H
X-Robots-Tag:noindex
X-PUBLISHED-TTL:PT1H
BEGIN:VTIMEZONE
TZID:Europe/Brussels
BEGIN:DAYLIGHT
TZOFFSETFROM:+0100
TZOFFSETTO:+0200
TZNAME:CEST
DTSTART:20250330T010000
END:DAYLIGHT
BEGIN:STANDARD
TZOFFSETFROM:+0200
TZOFFSETTO:+0100
TZNAME:CET
DTSTART:20251026T010000
END:STANDARD
END:VTIMEZONE
BEGIN:VEVENT
DTSTART;TZID=Europe/Brussels:20251218T140000
DTEND;TZID=Europe/Brussels:20251218T170000
DTSTAMP:20260419T210604
CREATED:20251024T113455Z
LAST-MODIFIED:20251024T155148Z
UID:30050-1766066400-1766077200@cva-verviers.be
SUMMARY:Olivier De Spiegeleir
DESCRIPTION:La Nature Inspiratrice à travers de grandes œuvres pour piano et pages littéraires.
URL:https://cva-verviers.be/event/olivier-de-spiegeleir/
CATEGORIES:Conférence
END:VEVENT
END:VCALENDAR