BEGIN:VCALENDAR
VERSION:2.0
PRODID:-//CVA Verviers - ECPv6.0.3//NONSGML v1.0//EN
CALSCALE:GREGORIAN
METHOD:PUBLISH
X-WR-CALNAME:CVA Verviers
X-ORIGINAL-URL:https://cva-verviers.be
X-WR-CALDESC:Events for CVA Verviers
REFRESH-INTERVAL;VALUE=DURATION:PT1H
X-Robots-Tag:noindex
X-PUBLISHED-TTL:PT1H
BEGIN:VTIMEZONE
TZID:Europe/Brussels
BEGIN:DAYLIGHT
TZOFFSETFROM:+0100
TZOFFSETTO:+0200
TZNAME:CEST
DTSTART:20220327T010000
END:DAYLIGHT
BEGIN:STANDARD
TZOFFSETFROM:+0200
TZOFFSETTO:+0100
TZNAME:CET
DTSTART:20221030T010000
END:STANDARD
END:VTIMEZONE
BEGIN:VEVENT
DTSTART;TZID=Europe/Brussels:20221117T073000
DTEND;TZID=Europe/Brussels:20221117T200000
DTSTAMP:20260422T122304
CREATED:20221013T094032Z
LAST-MODIFIED:20221013T094032Z
UID:29648-1668670200-1668715200@cva-verviers.be
SUMMARY:Essen
DESCRIPTION:Exposition temporaire d’oeuvres d’expressionistes au Folkwang museum \nVisite de Zeche Zolverein
URL:https://cva-verviers.be/event/essen/
CATEGORIES:Excursions
END:VEVENT
END:VCALENDAR