BEGIN:VCALENDAR
VERSION:2.0
PRODID:-//CVA Verviers - ECPv6.0.3//NONSGML v1.0//EN
CALSCALE:GREGORIAN
METHOD:PUBLISH
X-ORIGINAL-URL:https://cva-verviers.be
X-WR-CALDESC:Events for CVA Verviers
REFRESH-INTERVAL;VALUE=DURATION:PT1H
X-Robots-Tag:noindex
X-PUBLISHED-TTL:PT1H
BEGIN:VTIMEZONE
TZID:Europe/Brussels
BEGIN:DAYLIGHT
TZOFFSETFROM:+0100
TZOFFSETTO:+0200
TZNAME:CEST
DTSTART:20250330T010000
END:DAYLIGHT
BEGIN:STANDARD
TZOFFSETFROM:+0200
TZOFFSETTO:+0100
TZNAME:CET
DTSTART:20251026T010000
END:STANDARD
END:VTIMEZONE
BEGIN:VEVENT
DTSTART;TZID=Europe/Brussels:20250213T080000
DTEND;TZID=Europe/Brussels:20250213T170000
DTSTAMP:20260420T125547
CREATED:20240910T130422Z
LAST-MODIFIED:20240910T174847Z
UID:29973-1739433600-1739466000@cva-verviers.be
SUMMARY:Excursion - Liège ...
DESCRIPTION:En passant par l’opéra pour assister au concours de chef d’orchestre
URL:https://cva-verviers.be/event/excursion-liege/
CATEGORIES:Excursions
END:VEVENT
END:VCALENDAR