BEGIN:VCALENDAR
VERSION:2.0
PRODID:-//CVA Verviers - ECPv6.0.3//NONSGML v1.0//EN
CALSCALE:GREGORIAN
METHOD:PUBLISH
X-WR-CALNAME:CVA Verviers
X-ORIGINAL-URL:https://cva-verviers.be
X-WR-CALDESC:Events for CVA Verviers
REFRESH-INTERVAL;VALUE=DURATION:PT1H
X-Robots-Tag:noindex
X-PUBLISHED-TTL:PT1H
BEGIN:VTIMEZONE
TZID:Europe/Brussels
BEGIN:DAYLIGHT
TZOFFSETFROM:+0100
TZOFFSETTO:+0200
TZNAME:CEST
DTSTART:20240331T010000
END:DAYLIGHT
BEGIN:STANDARD
TZOFFSETFROM:+0200
TZOFFSETTO:+0100
TZNAME:CET
DTSTART:20241027T010000
END:STANDARD
END:VTIMEZONE
BEGIN:VEVENT
DTSTART;TZID=Europe/Brussels:20241114T080000
DTEND;TZID=Europe/Brussels:20241114T170000
DTSTAMP:20260420T195316
CREATED:20240910T130216Z
LAST-MODIFIED:20240910T174946Z
UID:29970-1731571200-1731603600@cva-verviers.be
SUMMARY:Excursion - Anvers
DESCRIPTION:Jardin d’hiver des Ursulines \nEnsor KMSK
URL:https://cva-verviers.be/event/excursion-anvers/
CATEGORIES:Excursions
END:VEVENT
END:VCALENDAR