BEGIN:VCALENDAR
VERSION:2.0
PRODID:-//CVA Verviers - ECPv6.0.3//NONSGML v1.0//EN
CALSCALE:GREGORIAN
METHOD:PUBLISH
X-ORIGINAL-URL:https://cva-verviers.be
X-WR-CALDESC:Events for CVA Verviers
REFRESH-INTERVAL;VALUE=DURATION:PT1H
X-Robots-Tag:noindex
X-PUBLISHED-TTL:PT1H
BEGIN:VTIMEZONE
TZID:Europe/Brussels
BEGIN:DAYLIGHT
TZOFFSETFROM:+0100
TZOFFSETTO:+0200
TZNAME:CEST
DTSTART:20230326T010000
END:DAYLIGHT
BEGIN:STANDARD
TZOFFSETFROM:+0200
TZOFFSETTO:+0100
TZNAME:CET
DTSTART:20231029T010000
END:STANDARD
END:VTIMEZONE
BEGIN:VEVENT
DTSTART;TZID=Europe/Brussels:20230425T080000
DTEND;TZID=Europe/Brussels:20230428T170000
DTSTAMP:20260422T105217
CREATED:20221013T094315Z
LAST-MODIFIED:20221013T094315Z
UID:29652-1682409600-1682701200@cva-verviers.be
SUMMARY:Regensburg\, baignée par le Danube
DESCRIPTION:
URL:https://cva-verviers.be/event/regensburg-baignee-par-le-danube/
CATEGORIES:Voyages
END:VEVENT
END:VCALENDAR