BEGIN:VCALENDAR
VERSION:2.0
PRODID:-//CVA Verviers - ECPv6.0.3//NONSGML v1.0//EN
CALSCALE:GREGORIAN
METHOD:PUBLISH
X-ORIGINAL-URL:https://cva-verviers.be
X-WR-CALDESC:Events for CVA Verviers
REFRESH-INTERVAL;VALUE=DURATION:PT1H
X-Robots-Tag:noindex
X-PUBLISHED-TTL:PT1H
BEGIN:VTIMEZONE
TZID:Europe/Brussels
BEGIN:DAYLIGHT
TZOFFSETFROM:+0100
TZOFFSETTO:+0200
TZNAME:CEST
DTSTART:20220327T010000
END:DAYLIGHT
BEGIN:STANDARD
TZOFFSETFROM:+0200
TZOFFSETTO:+0100
TZNAME:CET
DTSTART:20221030T010000
END:STANDARD
END:VTIMEZONE
BEGIN:VEVENT
DTSTART;TZID=Europe/Brussels:20221110T140000
DTEND;TZID=Europe/Brussels:20221110T160000
DTSTAMP:20260422T184042
CREATED:20221004T121547Z
LAST-MODIFIED:20221013T092703Z
UID:29556-1668088800-1668096000@cva-verviers.be
SUMMARY:Un ethnologue au pays du luxe
DESCRIPTION:Marc ABÉLÈS \nDirecteur d’Etudes à l’ EHESS ( Paris )\nDirecteur émérite de Recherche au CNRS
URL:https://cva-verviers.be/event/un-ethnologue-au-pays-du-luxe/
LOCATION:Cinéma Pathé – Salle 6\, Bld des Gérardchamps\, 7A\, Verviers\, 4800\, Belgium
CATEGORIES:Conférence
END:VEVENT
BEGIN:VEVENT
DTSTART;TZID=Europe/Brussels:20221117T073000
DTEND;TZID=Europe/Brussels:20221117T200000
DTSTAMP:20260422T184042
CREATED:20221013T094032Z
LAST-MODIFIED:20221013T094032Z
UID:29648-1668670200-1668715200@cva-verviers.be
SUMMARY:Essen
DESCRIPTION:Exposition temporaire d’oeuvres d’expressionistes au Folkwang museum \nVisite de Zeche Zolverein
URL:https://cva-verviers.be/event/essen/
CATEGORIES:Excursions
END:VEVENT
BEGIN:VEVENT
DTSTART;TZID=Europe/Brussels:20221124T140000
DTEND;TZID=Europe/Brussels:20221124T160000
DTSTAMP:20260422T184042
CREATED:20221004T121547Z
LAST-MODIFIED:20221013T092738Z
UID:29555-1669298400-1669305600@cva-verviers.be
SUMMARY:L'impact des comportements sur l'ADN
DESCRIPTION:Nathalie ZAMMATEO \nDocteur en sciences biologiques\, thérapeute somato – psychique
URL:https://cva-verviers.be/event/limpact-des-comportements-sur-ladn/
LOCATION:Cinéma Pathé – Salle 6\, Bld des Gérardchamps\, 7A\, Verviers\, 4800\, Belgium
CATEGORIES:Conférence
END:VEVENT
END:VCALENDAR