BEGIN:VCALENDAR
VERSION:2.0
PRODID:-//CVA Verviers - ECPv6.0.3//NONSGML v1.0//EN
CALSCALE:GREGORIAN
METHOD:PUBLISH
X-WR-CALNAME:CVA Verviers
X-ORIGINAL-URL:https://cva-verviers.be
X-WR-CALDESC:Events for CVA Verviers
REFRESH-INTERVAL;VALUE=DURATION:PT1H
X-Robots-Tag:noindex
X-PUBLISHED-TTL:PT1H
BEGIN:VTIMEZONE
TZID:Europe/Brussels
BEGIN:DAYLIGHT
TZOFFSETFROM:+0100
TZOFFSETTO:+0200
TZNAME:CEST
DTSTART:20230326T010000
END:DAYLIGHT
BEGIN:STANDARD
TZOFFSETFROM:+0200
TZOFFSETTO:+0100
TZNAME:CET
DTSTART:20231029T010000
END:STANDARD
END:VTIMEZONE
BEGIN:VEVENT
DTSTART;VALUE=DATE:20231207
DTEND;VALUE=DATE:20231208
DTSTAMP:20260421T185129
CREATED:20230801T124702Z
LAST-MODIFIED:20230801T124702Z
UID:29804-1701907200-1701993599@cva-verviers.be
SUMMARY:Excursion culturelle à Bruxelles
DESCRIPTION:Les détails de la journée suivront.
URL:https://cva-verviers.be/event/excursion-culturelle-a-bruxelles/
CATEGORIES:Excursions
END:VEVENT
BEGIN:VEVENT
DTSTART;TZID=Europe/Brussels:20231214T140000
DTEND;TZID=Europe/Brussels:20231214T160000
DTSTAMP:20260421T185129
CREATED:20230801T122831Z
LAST-MODIFIED:20230812T175401Z
UID:29771-1702562400-1702569600@cva-verviers.be
SUMMARY:Antonio Vivaldi (1678 - 1741) Les derniers Feux du Baroque vénitien
DESCRIPTION:Jean-Marc Onkelinx\, musicologue et conférencier
URL:https://cva-verviers.be/event/sujet-a-venir/
LOCATION:Cinéma Pathé Verviers\, Boulevard des Gérardchamps\, 7a\, VERVIERS\, 4800
CATEGORIES:Conférence
END:VEVENT
END:VCALENDAR