BEGIN:VCALENDAR
VERSION:2.0
PRODID:-//CVA Verviers - ECPv6.0.3//NONSGML v1.0//EN
CALSCALE:GREGORIAN
METHOD:PUBLISH
X-WR-CALNAME:CVA Verviers
X-ORIGINAL-URL:https://cva-verviers.be
X-WR-CALDESC:Events for CVA Verviers
REFRESH-INTERVAL;VALUE=DURATION:PT1H
X-Robots-Tag:noindex
X-PUBLISHED-TTL:PT1H
BEGIN:VTIMEZONE
TZID:Europe/Brussels
BEGIN:DAYLIGHT
TZOFFSETFROM:+0100
TZOFFSETTO:+0200
TZNAME:CEST
DTSTART:20240331T010000
END:DAYLIGHT
BEGIN:STANDARD
TZOFFSETFROM:+0200
TZOFFSETTO:+0100
TZNAME:CET
DTSTART:20241027T010000
END:STANDARD
END:VTIMEZONE
BEGIN:VEVENT
DTSTART;TZID=Europe/Brussels:20240411T140000
DTEND;TZID=Europe/Brussels:20240411T160000
DTSTAMP:20260421T081016
CREATED:20230801T124004Z
LAST-MODIFIED:20230801T124004Z
UID:29796-1712844000-1712851200@cva-verviers.be
SUMMARY:Traitement des maladies au vieillir en bonne santé
DESCRIPTION:Sophie GILLAIN\, Professeur chef de service de gériatrie du CHU de Liège
URL:https://cva-verviers.be/event/traitement-des-maladies-au-vieillir-en-bonne-sante/
LOCATION:Cinéma Pathé Verviers\, Boulevard des Gérardchamps\, 7a\, VERVIERS\, 4800
CATEGORIES:Conférence
END:VEVENT
BEGIN:VEVENT
DTSTART;VALUE=DATE:20240425
DTEND;VALUE=DATE:20240426
DTSTAMP:20260421T081016
CREATED:20230812T175557Z
LAST-MODIFIED:20230812T175557Z
UID:29814-1714003200-1714089599@cva-verviers.be
SUMMARY:L'Ardenne entre écologie\, art et histoire
DESCRIPTION:Les détails de cette excursion suivront.
URL:https://cva-verviers.be/event/lardenne-entre-ecologie-art-et-histoire/
CATEGORIES:Excursions
END:VEVENT
END:VCALENDAR