BEGIN:VCALENDAR
VERSION:2.0
PRODID:-//CVA Verviers - ECPv6.0.3//NONSGML v1.0//EN
CALSCALE:GREGORIAN
METHOD:PUBLISH
X-WR-CALNAME:CVA Verviers
X-ORIGINAL-URL:https://cva-verviers.be
X-WR-CALDESC:Events for CVA Verviers
REFRESH-INTERVAL;VALUE=DURATION:PT1H
X-Robots-Tag:noindex
X-PUBLISHED-TTL:PT1H
BEGIN:VTIMEZONE
TZID:Europe/Brussels
BEGIN:DAYLIGHT
TZOFFSETFROM:+0100
TZOFFSETTO:+0200
TZNAME:CEST
DTSTART:20250330T010000
END:DAYLIGHT
BEGIN:STANDARD
TZOFFSETFROM:+0200
TZOFFSETTO:+0100
TZNAME:CET
DTSTART:20251026T010000
END:STANDARD
END:VTIMEZONE
BEGIN:VEVENT
DTSTART;TZID=Europe/Brussels:20250513T080000
DTEND;TZID=Europe/Brussels:20250516T223000
DTSTAMP:20260420T090542
CREATED:20240910T131008Z
LAST-MODIFIED:20240910T161620Z
UID:29978-1747123200-1747434600@cva-verviers.be
SUMMARY:Voyage - Montpellier
DESCRIPTION:Montpellier\, ville éblouissante aux portes de la Méditerranée
URL:https://cva-verviers.be/event/voyage-montpellier/
CATEGORIES:Voyages
END:VEVENT
END:VCALENDAR