BEGIN:VCALENDAR
VERSION:2.0
PRODID:-//CVA Verviers - ECPv6.0.3//NONSGML v1.0//EN
CALSCALE:GREGORIAN
METHOD:PUBLISH
X-WR-CALNAME:CVA Verviers
X-ORIGINAL-URL:https://cva-verviers.be
X-WR-CALDESC:Events for CVA Verviers
REFRESH-INTERVAL;VALUE=DURATION:PT1H
X-Robots-Tag:noindex
X-PUBLISHED-TTL:PT1H
BEGIN:VTIMEZONE
TZID:Europe/Brussels
BEGIN:DAYLIGHT
TZOFFSETFROM:+0100
TZOFFSETTO:+0200
TZNAME:CEST
DTSTART:20260329T010000
END:DAYLIGHT
BEGIN:STANDARD
TZOFFSETFROM:+0200
TZOFFSETTO:+0100
TZNAME:CET
DTSTART:20261025T010000
END:STANDARD
END:VTIMEZONE
BEGIN:VEVENT
DTSTART;TZID=Europe/Brussels:20260108T140000
DTEND;TZID=Europe/Brussels:20260108T170000
DTSTAMP:20260419T185106
CREATED:20251024T113645Z
LAST-MODIFIED:20251024T155139Z
UID:30053-1767880800-1767891600@cva-verviers.be
SUMMARY:Vincent Gabriel
DESCRIPTION:Faire la Paix : réflexion théorique et enjeux contemporains.
URL:https://cva-verviers.be/event/vincent-gabriel/
CATEGORIES:Conférence
END:VEVENT
BEGIN:VEVENT
DTSTART;TZID=Europe/Brussels:20260122T140000
DTEND;TZID=Europe/Brussels:20260122T170000
DTSTAMP:20260419T185106
CREATED:20251024T113853Z
LAST-MODIFIED:20251024T155132Z
UID:30055-1769090400-1769101200@cva-verviers.be
SUMMARY:Bertrand Badie
DESCRIPTION:L’Afrique dans la mondialisation : entre souffrance et mobilisation sociale .
URL:https://cva-verviers.be/event/bertrand-badie/
CATEGORIES:Conférence
END:VEVENT
BEGIN:VEVENT
DTSTART;TZID=Europe/Brussels:20260129T140000
DTEND;TZID=Europe/Brussels:20260129T170000
DTSTAMP:20260419T185106
CREATED:20251024T114212Z
LAST-MODIFIED:20251024T155124Z
UID:30057-1769695200-1769706000@cva-verviers.be
SUMMARY:Hirac Gurden
DESCRIPTION:Une invitation au voyage dans le monde fascinant des odeurs et de l’odorat.
URL:https://cva-verviers.be/event/hirac-gurden/
CATEGORIES:Conférence
END:VEVENT
END:VCALENDAR