BEGIN:VCALENDAR
VERSION:2.0
PRODID:-//CVA Verviers - ECPv6.0.3//NONSGML v1.0//EN
CALSCALE:GREGORIAN
METHOD:PUBLISH
X-ORIGINAL-URL:https://cva-verviers.be
X-WR-CALDESC:Events for CVA Verviers
REFRESH-INTERVAL;VALUE=DURATION:PT1H
X-Robots-Tag:noindex
X-PUBLISHED-TTL:PT1H
BEGIN:VTIMEZONE
TZID:Europe/Brussels
BEGIN:DAYLIGHT
TZOFFSETFROM:+0100
TZOFFSETTO:+0200
TZNAME:CEST
DTSTART:20260329T010000
END:DAYLIGHT
BEGIN:STANDARD
TZOFFSETFROM:+0200
TZOFFSETTO:+0100
TZNAME:CET
DTSTART:20261025T010000
END:STANDARD
END:VTIMEZONE
BEGIN:VEVENT
DTSTART;TZID=Europe/Brussels:20260305T140000
DTEND;TZID=Europe/Brussels:20260305T170000
DTSTAMP:20260419T151414
CREATED:20251024T114617Z
LAST-MODIFIED:20251024T155101Z
UID:30062-1772719200-1772730000@cva-verviers.be
SUMMARY:Jean Abitbol
DESCRIPTION:Entre science\, art et émotion : la belle histoire de la voix.
URL:https://cva-verviers.be/event/jean-abitbol/
CATEGORIES:Conférence
END:VEVENT
BEGIN:VEVENT
DTSTART;TZID=Europe/Brussels:20260319T140000
DTEND;TZID=Europe/Brussels:20260319T170000
DTSTAMP:20260419T151414
CREATED:20251024T114723Z
LAST-MODIFIED:20251024T155014Z
UID:30065-1773928800-1773939600@cva-verviers.be
SUMMARY:Bruno David.
DESCRIPTION:Habiter la Terre.
URL:https://cva-verviers.be/event/bruno-david/
CATEGORIES:Conférence
END:VEVENT
END:VCALENDAR